BEGIN:VCALENDAR
VERSION:2.0
PRODID:-//jEvents 2.0 for Joomla//EN
CALSCALE:GREGORIAN
METHOD:PUBLISH
BEGIN:VEVENT
UID:c00017bda048b5cafb7a28ebd892fb4b
CATEGORIES:Veranstaltungen
CREATED:20251007T090510
SUMMARY:Konferenz der Prüfer:innen RDP 2025/26 Klasse 5WB
DESCRIPTION:
DTSTAMP:20260425T131440
DTSTART:20260527T133000
DTEND:20260527T143000
SEQUENCE:0
TRANSP:OPAQUE
END:VEVENT
END:VCALENDAR