BEGIN:VCALENDAR
VERSION:2.0
PRODID:-//jEvents 2.0 for Joomla//EN
CALSCALE:GREGORIAN
METHOD:PUBLISH
BEGIN:VEVENT
UID:b773e69e0d75c0b0457881d92191016c
CATEGORIES:Veranstaltungen
CREATED:20251007T090436
SUMMARY:Konferenz der Prüfer:innen RDP 2025/26 Klasse 5WA
DESCRIPTION:
DTSTAMP:20260425T131249
DTSTART:20260527T123000
DTEND:20260527T133000
SEQUENCE:0
TRANSP:OPAQUE
END:VEVENT
END:VCALENDAR