BEGIN:VCALENDAR
VERSION:2.0
PRODID:-//jEvents 2.0 for Joomla//EN
CALSCALE:GREGORIAN
METHOD:PUBLISH
BEGIN:VEVENT
UID:7f175dc52923e2a6d28889f28e942fe6
CATEGORIES:Veranstaltungen
CREATED:20251007T090404
SUMMARY:Konferenz der Prüfer:innen RDP 2025/26 Klasse 5.HAK
DESCRIPTION:
DTSTAMP:20260425T131354
DTSTART:20260528T143000
DTEND:20260528T153000
SEQUENCE:0
TRANSP:OPAQUE
END:VEVENT
END:VCALENDAR