BEGIN:VCALENDAR
VERSION:2.0
PRODID:-//jEvents 2.0 for Joomla//EN
CALSCALE:GREGORIAN
METHOD:PUBLISH
BEGIN:VEVENT
UID:3341f1322cda1e29db32d6cd9931ce8a
CATEGORIES:Veranstaltungen
CREATED:20251007T090328
SUMMARY:Konferenz der Prüfer:innen RDP 2025/26 Klasse 5.HTLb
DESCRIPTION:
DTSTAMP:20260425T131250
DTSTART:20260528T133000
DTEND:20260528T143000
SEQUENCE:0
TRANSP:OPAQUE
END:VEVENT
END:VCALENDAR