BEGIN:VCALENDAR
VERSION:2.0
PRODID:-//jEvents 2.0 for Joomla//EN
CALSCALE:GREGORIAN
METHOD:PUBLISH
BEGIN:VEVENT
UID:8bb72e8e23739922d4388c811989c73c
CATEGORIES:Veranstaltungen
CREATED:20251007T090256
SUMMARY:Konferenz der Prüfer:innen RDP 2025/26 Klasse 5.HTLa
DESCRIPTION:
DTSTAMP:20260425T131318
DTSTART:20260528T123000
DTEND:20260528T133000
SEQUENCE:0
TRANSP:OPAQUE
END:VEVENT
END:VCALENDAR