BEGIN:VCALENDAR
VERSION:2.0
PRODID:-//jEvents 2.0 for Joomla//EN
CALSCALE:GREGORIAN
METHOD:PUBLISH
BEGIN:VEVENT
UID:3732da8583f0cace3a52414e42e6cf00
CATEGORIES:Veranstaltungen
CREATED:20251007T090159
SUMMARY:Abgabe der korrigierten Aufgaben RDP 2025/26
DESCRIPTION:
DTSTAMP:20260425T131208
DTSTART:20260522T060000
DTEND:20260522T100000
SEQUENCE:0
TRANSP:OPAQUE
END:VEVENT
END:VCALENDAR