BEGIN:VCALENDAR
VERSION:2.0
PRODID:-//jEvents 2.0 for Joomla//EN
CALSCALE:GREGORIAN
METHOD:PUBLISH
BEGIN:VEVENT
UID:75141f72f26d7ecae1b64b49c8c4ed43
CATEGORIES:Veranstaltungen
CREATED:20251007T090121
SUMMARY:Schriftliche Reife- und Diplomprüfung 2025/26 Italienisch
DESCRIPTION:
DTSTAMP:20260425T134134
DTSTART:20260513T060000
DTEND:20260513T120000
SEQUENCE:0
TRANSP:OPAQUE
END:VEVENT
END:VCALENDAR