BEGIN:VCALENDAR
VERSION:2.0
PRODID:-//jEvents 2.0 for Joomla//EN
CALSCALE:GREGORIAN
METHOD:PUBLISH
BEGIN:VEVENT
UID:48765f0fb3602e289a63c1f27715380a
CATEGORIES:Veranstaltungen
CREATED:20251007T090052
SUMMARY:Schriftliche Reife- und Diplomprüfung 2025/26 Mathematik
DESCRIPTION:
DTSTAMP:20260425T131319
DTSTART:20260511T060000
DTEND:20260511T100000
SEQUENCE:0
TRANSP:OPAQUE
END:VEVENT
END:VCALENDAR