BEGIN:VCALENDAR
VERSION:2.0
PRODID:-//jEvents 2.0 for Joomla//EN
CALSCALE:GREGORIAN
METHOD:PUBLISH
BEGIN:VEVENT
UID:c1caec4ad8d62f5de39d3e84b8f87f06
CATEGORIES:Veranstaltungen
CREATED:20251007T090025
SUMMARY:Schriftliche Reife- und Diplomprüfung 2025/26 Französisch
DESCRIPTION:
DTSTAMP:20260425T114453
DTSTART:20260508T060000
DTEND:20260508T120000
SEQUENCE:0
TRANSP:OPAQUE
END:VEVENT
END:VCALENDAR