BEGIN:VCALENDAR
VERSION:2.0
PRODID:-//jEvents 2.0 for Joomla//EN
CALSCALE:GREGORIAN
METHOD:PUBLISH
BEGIN:VEVENT
UID:4fe86858e4708a9b31bf0ea6e01d3d70
CATEGORIES:Veranstaltungen
CREATED:20251007T085949
SUMMARY:Schriftliche Reife- und Diplomprüfung 2025/26 Englisch
DESCRIPTION:
DTSTAMP:20260425T114453
DTSTART:20260507T060000
DTEND:20260507T120000
SEQUENCE:0
TRANSP:OPAQUE
END:VEVENT
END:VCALENDAR