BEGIN:VCALENDAR
VERSION:2.0
PRODID:-//jEvents 2.0 for Joomla//EN
CALSCALE:GREGORIAN
METHOD:PUBLISH
BEGIN:VEVENT
UID:50105b19bb6ea0095f4b4d6809227379
CATEGORIES:Veranstaltungen
CREATED:20251007T085924
SUMMARY:Schriftliche Reife- und Diplomprüfung 2025/26 Deutsch
DESCRIPTION:
DTSTAMP:20260425T114340
DTSTART:20260505T060000
DTEND:20260505T120000
SEQUENCE:0
TRANSP:OPAQUE
END:VEVENT
END:VCALENDAR