BEGIN:VCALENDAR
VERSION:2.0
PRODID:-//jEvents 2.0 for Joomla//EN
CALSCALE:GREGORIAN
METHOD:PUBLISH
BEGIN:VEVENT
UID:7344312f491eb665cf9f8b8697aaac81
CATEGORIES:Veranstaltungen
CREATED:20251007T085855
SUMMARY:Schriftliche Reife- und Diplomprüfung 2025/26 SWP/BFK/ABR
DESCRIPTION:
DTSTAMP:20260425T114340
DTSTART:20260504T060000
DTEND:20260504T120000
SEQUENCE:0
TRANSP:OPAQUE
END:VEVENT
END:VCALENDAR