BEGIN:VCALENDAR
VERSION:2.0
PRODID:-//jEvents 2.0 for Joomla//EN
CALSCALE:GREGORIAN
METHOD:PUBLISH
BEGIN:VEVENT
UID:e437511771f23d835ef24a5d2605214e
CATEGORIES:Veranstaltungen
CREATED:20251007T085743
SUMMARY:Letzter Schultag 5.HTL, 5.HAK und 5.HLW
DESCRIPTION:
DTSTAMP:20260425T103724
DTSTART:20260430T060000
DTEND:20260430T120000
SEQUENCE:0
TRANSP:OPAQUE
END:VEVENT
END:VCALENDAR