BEGIN:VCALENDAR
VERSION:2.0
PRODID:-//jEvents 2.0 for Joomla//EN
CALSCALE:GREGORIAN
METHOD:PUBLISH
BEGIN:VEVENT
UID:8fa3087c65409792e103ebe9600733f0
CATEGORIES:Veranstaltungen
CREATED:20251007T085615
SUMMARY:Coachingtage 5.HTL, 5.HAK und 5.HLW
DESCRIPTION:
DTSTAMP:20260425T115817
DTSTART:20260423T060000
DTEND:20260429T150000
SEQUENCE:0
TRANSP:OPAQUE
END:VEVENT
END:VCALENDAR