BEGIN:VCALENDAR
VERSION:2.0
PRODID:-//jEvents 2.0 for Joomla//EN
CALSCALE:GREGORIAN
METHOD:PUBLISH
BEGIN:VEVENT
UID:f1d4641419b255b9c66719acb4e90b9a
CATEGORIES:Veranstaltungen
CREATED:20251007T085513
SUMMARY:Klassenkonferenzen 5wa und 5wb
DESCRIPTION:
DTSTAMP:20260425T120624
DTSTART:20260422T140000
DTEND:20260422T150000
SEQUENCE:0
TRANSP:OPAQUE
END:VEVENT
END:VCALENDAR