BEGIN:VCALENDAR
VERSION:2.0
PRODID:-//jEvents 2.0 for Joomla//EN
CALSCALE:GREGORIAN
METHOD:PUBLISH
BEGIN:VEVENT
UID:722e7ce680d83f0c149ac37ea7ad3c32
CATEGORIES:Veranstaltungen
CREATED:20251007T085409
SUMMARY:Klassenkonferenz 5.HAK
DESCRIPTION:
DTSTAMP:20260425T120951
DTSTART:20260422T130000
DTEND:20260422T140000
SEQUENCE:0
TRANSP:OPAQUE
END:VEVENT
END:VCALENDAR