BEGIN:VCALENDAR
VERSION:2.0
PRODID:-//jEvents 2.0 for Joomla//EN
CALSCALE:GREGORIAN
METHOD:PUBLISH
BEGIN:VEVENT
UID:2a2b29bd34626c06f10538cb590f2511
CATEGORIES:Veranstaltungen
CREATED:20251007T085319
SUMMARY:Klassenkonferenzen 5.HTLa und HTLb
DESCRIPTION:
DTSTAMP:20260425T120921
DTSTART:20260422T120000
DTEND:20260422T130000
SEQUENCE:0
TRANSP:OPAQUE
END:VEVENT
END:VCALENDAR