BEGIN:VCALENDAR
VERSION:2.0
PRODID:-//jEvents 2.0 for Joomla//EN
CALSCALE:GREGORIAN
METHOD:PUBLISH
BEGIN:VEVENT
UID:572a6425c05720dcb7436f62cd336234
CATEGORIES:Veranstaltungen
CREATED:20251007T085139
SUMMARY:Notenschluss 5.Klassen
DESCRIPTION:
DTSTAMP:20260425T133835
DTSTART:20260422T060000
DTEND:20260422T100000
SEQUENCE:0
TRANSP:OPAQUE
END:VEVENT
END:VCALENDAR