BEGIN:VCALENDAR
VERSION:2.0
PRODID:-//jEvents 2.0 for Joomla//EN
CALSCALE:GREGORIAN
METHOD:PUBLISH
BEGIN:VEVENT
UID:16501e162842fae80df08172bc2ff74c
CATEGORIES:Veranstaltungen
CREATED:20251007T085101
SUMMARY:Präsentation Diplomarbeiten 5.HAK
DESCRIPTION:
DTSTAMP:20260425T133938
DTSTART:20260312T070000
DTEND:20260312T160000
SEQUENCE:0
TRANSP:OPAQUE
END:VEVENT
END:VCALENDAR