BEGIN:VCALENDAR
VERSION:2.0
PRODID:-//jEvents 2.0 for Joomla//EN
CALSCALE:GREGORIAN
METHOD:PUBLISH
BEGIN:VEVENT
UID:84b021e65e18de982309d2a05a118337
CATEGORIES:Veranstaltungen
CREATED:20251007T085033
SUMMARY:Präsentation Diplomarbeiten 5.HLW
DESCRIPTION:
DTSTAMP:20260425T133955
DTSTART:20260311T070000
DTEND:20260311T160000
SEQUENCE:0
TRANSP:OPAQUE
END:VEVENT
END:VCALENDAR