BEGIN:VCALENDAR
VERSION:2.0
PRODID:-//jEvents 2.0 for Joomla//EN
CALSCALE:GREGORIAN
METHOD:PUBLISH
BEGIN:VEVENT
UID:75718e986d7d9540eb4104a52d2aa2e1
CATEGORIES:Veranstaltungen
CREATED:20251007T084956
SUMMARY:Präsentationen Diplomarbeiten 5.HTL
DESCRIPTION:
DTSTAMP:20260425T153726
DTSTART:20260310T070000
DTEND:20260310T160000
SEQUENCE:0
TRANSP:OPAQUE
END:VEVENT
END:VCALENDAR