BEGIN:VCALENDAR
VERSION:2.0
PRODID:-//jEvents 2.0 for Joomla//EN
CALSCALE:GREGORIAN
METHOD:PUBLISH
BEGIN:VEVENT
UID:6e1587ac0ad683ab9ed9698826bfcc7e
CATEGORIES:Veranstaltungen
CREATED:20251007T084003
SUMMARY:Campus-Technik-Tag in der Wirtschaftskammer Reutte
DESCRIPTION:
DTSTAMP:20260425T185510
DTSTART:20251024T080000
DTEND:20251024T170000
SEQUENCE:0
TRANSP:OPAQUE
END:VEVENT
END:VCALENDAR