BEGIN:VCALENDAR
VERSION:2.0
PRODID:-//jEvents 2.0 for Joomla//EN
CALSCALE:GREGORIAN
METHOD:PUBLISH
BEGIN:VEVENT
UID:b41b6f913df8272109b9afc55e438d5d
CATEGORIES:Veranstaltungen
CREATED:20251007T083903
SUMMARY:Erste-Hilfe-Kurs Klassen 3wa und 3wb
DESCRIPTION:
DTSTAMP:20260425T185504
DTSTART:20251010T060000
DTEND:20251010T160000
SEQUENCE:0
TRANSP:OPAQUE
END:VEVENT
END:VCALENDAR