BEGIN:VCALENDAR
VERSION:2.0
PRODID:-//jEvents 2.0 for Joomla//EN
CALSCALE:GREGORIAN
METHOD:PUBLISH
BEGIN:VEVENT
UID:305d7d5622e50b45708189f926ff09c6
CATEGORIES:Veranstaltungen
CREATED:20251007T083750
SUMMARY:Uni goes Reutte - zwischen Hitzerekord und Schneekanone" - Tourismus im Klimastress
DESCRIPTION:
DTSTAMP:20260425T185258
DTSTART:20251023T170000
DTEND:20251023T190000
SEQUENCE:0
TRANSP:OPAQUE
END:VEVENT
END:VCALENDAR