BEGIN:VCALENDAR
VERSION:2.0
PRODID:-//jEvents 2.0 for Joomla//EN
CALSCALE:GREGORIAN
METHOD:PUBLISH
BEGIN:VEVENT
UID:3d2e8ff46fe9681913bccd55f3818733
CATEGORIES:Veranstaltungen
CREATED:20250929T110656
SUMMARY:Auftaktveranstaltung MINT im Kulurhaus in Pflach
DESCRIPTION:
DTSTAMP:20260425T190612
DTSTART:20251002T160000
DTEND:20251002T180000
SEQUENCE:0
TRANSP:OPAQUE
END:VEVENT
END:VCALENDAR