BEGIN:VCALENDAR
VERSION:2.0
PRODID:-//jEvents 2.0 for Joomla//EN
CALSCALE:GREGORIAN
METHOD:PUBLISH
BEGIN:VEVENT
UID:3fa175c97842fb43158620e871417a97
CATEGORIES:Veranstaltungen
CREATED:20250929T110553
SUMMARY:Bewerbungsseminar Klasse 3WB
DESCRIPTION:
DTSTAMP:20260425T204519
DTSTART:20250929T085500
DTEND:20250929T113500
SEQUENCE:0
TRANSP:OPAQUE
END:VEVENT
END:VCALENDAR