BEGIN:VCALENDAR
VERSION:2.0
PRODID:-//jEvents 2.0 for Joomla//EN
CALSCALE:GREGORIAN
METHOD:PUBLISH
BEGIN:VEVENT
UID:81fad7821d622e6d6b7d70b6669141d8
CATEGORIES:Veranstaltungen
CREATED:20250929T110516
SUMMARY:Bewerbungsseminar Klasse 2.HAK
DESCRIPTION:
DTSTAMP:20260425T194513
DTSTART:20251002T060000
DTEND:20251002T084000
SEQUENCE:0
TRANSP:OPAQUE
END:VEVENT
END:VCALENDAR