BEGIN:VCALENDAR
VERSION:2.0
PRODID:-//jEvents 2.0 for Joomla//EN
CALSCALE:GREGORIAN
METHOD:PUBLISH
BEGIN:VEVENT
UID:3b42191ec37925f8862bd13d9495d13b
CATEGORIES:Veranstaltungen
CREATED:20250929T110247
SUMMARY:Bewerbungsseminar Klasse 2.HTL
DESCRIPTION:
DTSTAMP:20260425T185512
DTSTART:20251001T060000
DTEND:20251001T084000
SEQUENCE:0
TRANSP:OPAQUE
END:VEVENT
END:VCALENDAR