BEGIN:VCALENDAR
VERSION:2.0
PRODID:-//jEvents 2.0 for Joomla//EN
CALSCALE:GREGORIAN
METHOD:PUBLISH
BEGIN:VEVENT
UID:e8f2c4ad8ae645302808d5ceff3031a0
CATEGORIES:Veranstaltungen
CREATED:20250925T111830
SUMMARY:Unitag für die 5. Klassen
DESCRIPTION:
DTSTAMP:20260425T204456
DTSTART:20250925T065500
DTEND:20250925T084000
SEQUENCE:0
TRANSP:OPAQUE
END:VEVENT
END:VCALENDAR