BEGIN:VCALENDAR
VERSION:2.0
PRODID:-//jEvents 2.0 for Joomla//EN
CALSCALE:GREGORIAN
METHOD:PUBLISH
BEGIN:VEVENT
UID:18e2226118954e2c738002c1af4f6690
CATEGORIES:Veranstaltungen
CREATED:20250925T110900
SUMMARY:Praktikumsinformation - online
DESCRIPTION:
DTSTAMP:20260425T194629
DTSTART:20251015T133000
DTEND:20251015T150000
SEQUENCE:0
TRANSP:OPAQUE
END:VEVENT
END:VCALENDAR