BEGIN:VCALENDAR
VERSION:2.0
PRODID:-//jEvents 2.0 for Joomla//EN
CALSCALE:GREGORIAN
METHOD:PUBLISH
BEGIN:VEVENT
UID:72fc8e8993e9f9c0a55ea60f52de5c85
CATEGORIES:Veranstaltungen
CREATED:20250925T110827
SUMMARY:2. pädagogische Konferenz
DESCRIPTION:
DTSTAMP:20260425T152645
DTSTART:20251202T132500
DTEND:20251202T160000
SEQUENCE:0
TRANSP:OPAQUE
END:VEVENT
END:VCALENDAR