BEGIN:VCALENDAR
VERSION:2.0
PRODID:-//jEvents 2.0 for Joomla//EN
CALSCALE:GREGORIAN
METHOD:PUBLISH
BEGIN:VEVENT
UID:ae0680f8805a6d1b31ff83bd83cf67a4
CATEGORIES:Veranstaltungen
CREATED:20250924T102107
SUMMARY:4. und 5. Klassen Exkursion zum Tiroler Hochschultag in Innsbruck
DESCRIPTION:
DTSTAMP:20260425T171335
DTSTART:20251106T080000
DTEND:20251106T140000
SEQUENCE:0
TRANSP:OPAQUE
END:VEVENT
END:VCALENDAR