BEGIN:VCALENDAR
VERSION:2.0
PRODID:-//jEvents 2.0 for Joomla//EN
CALSCALE:GREGORIAN
METHOD:PUBLISH
BEGIN:VEVENT
UID:57c0317a178de7c70c9ac8b934b815f1
CATEGORIES:Veranstaltungen
CREATED:20250924T085125
SUMMARY:1. pädagogische Konferenz
DESCRIPTION:
DTSTAMP:20260425T190757
DTSTART:20251022T141000
DTEND:20251022T160000
SEQUENCE:0
TRANSP:OPAQUE
END:VEVENT
END:VCALENDAR