BEGIN:VCALENDAR
VERSION:2.0
PRODID:-//jEvents 2.0 for Joomla//EN
CALSCALE:GREGORIAN
METHOD:PUBLISH
BEGIN:VEVENT
UID:fdd2c735ead8ad98abbe81692ed91d25
CATEGORIES:Veranstaltungen
CREATED:20250919T091602
SUMMARY:Elternabend 1.HAK
DESCRIPTION:
DTSTAMP:20260425T185256
DTSTART:20251008T150000
DTEND:20251008T170000
SEQUENCE:0
TRANSP:OPAQUE
END:VEVENT
END:VCALENDAR