BEGIN:VCALENDAR
VERSION:2.0
PRODID:-//jEvents 2.0 for Joomla//EN
CALSCALE:GREGORIAN
METHOD:PUBLISH
BEGIN:VEVENT
UID:3e6818110f4c0915d41cc22705fe9463
CATEGORIES:Veranstaltungen
CREATED:20250919T091525
SUMMARY:Elternabend 1.HLW-Klassen
DESCRIPTION:
DTSTAMP:20260425T185251
DTSTART:20251007T150000
DTEND:20251007T170000
SEQUENCE:0
TRANSP:OPAQUE
END:VEVENT
END:VCALENDAR