BEGIN:VCALENDAR
VERSION:2.0
PRODID:-//jEvents 2.0 for Joomla//EN
CALSCALE:GREGORIAN
METHOD:PUBLISH
BEGIN:VEVENT
UID:04ddbe2981bf41088b80c57dbd6d62c0
CATEGORIES:Veranstaltungen
CREATED:20250918T133301
SUMMARY:Elternabend 1.HTL
DESCRIPTION:
DTSTAMP:20260425T185307
DTSTART:20251009T150000
DTEND:20251009T180000
SEQUENCE:0
TRANSP:OPAQUE
END:VEVENT
END:VCALENDAR