BEGIN:VCALENDAR
VERSION:2.0
PRODID:-//jEvents 2.0 for Joomla//EN
CALSCALE:GREGORIAN
METHOD:PUBLISH
BEGIN:VEVENT
UID:86fba0fb5c00225a51565e5425fa68d9
CATEGORIES:Veranstaltungen
CREATED:20250912T080535
SUMMARY:3.KLassen der HLW Besuch der FAFGA-Messe 
DESCRIPTION:
DTSTAMP:20260425T203830
DTSTART:20250917T060000
DTEND:20250917T150000
SEQUENCE:0
TRANSP:OPAQUE
END:VEVENT
END:VCALENDAR