BEGIN:VCALENDAR
VERSION:2.0
PRODID:-//jEvents 2.0 for Joomla//EN
CALSCALE:GREGORIAN
METHOD:PUBLISH
BEGIN:VEVENT
UID:79949507bc92c2fd1b16cc294b472846
CATEGORIES:Veranstaltungen
CREATED:20250909T150005
SUMMARY:Tag der offenen Tür
DESCRIPTION:Einladung zum Tag der offenen Tür\n\nLiebe Eltern, liebe Schülerinnen und S
 chüler, liebe Freunde unserer Schule,\n\nwir laden Sie und euch ganz herzli
 ch zu unserem Tag der offenen Tür ein!\n\nAn diesem besonderen Tag möchten 
 wir unsere Schulen, die HAK, HLW und HTL Reutte vorstellen und einen lebend
 igen Einblick in das Lernen und Miteinander bei uns geben. Unsere Gäste erw
 artet ein abwechslungsreiches Programm: Schülerinnen und Schüler präsentier
 en die Ausbildungsbereiche, zeigen spannende Projekte, Experimente und krea
 tive Arbeiten aus dem Unterricht. \n\nIn den Klassenräumen können Sie versc
 hiedene Fachbereiche entdecken, an kleinen Mitmachaktionen teilnehmen und s
 ich über unsere pädagogischen Schwerpunkte informieren.\n\nAuch unser Kolle
 gium steht Ihnen gerne für Gespräche zur Verfügung – sei es zu Fragen rund 
 um den Schulalltag, zur Schullaufbahn oder zu besonderen Angeboten.\nNatürl
 ich ist auch für das leibliche Wohl gesorgt!\n\nDatum: 21.11.2025\nUhrzeit:
  09:00 bis 17:00 Uhr\n\nWir freuen uns sehr auf zahlreiche Besucherinnen un
 d Besucher und auf viele interessante Begegnungen, Gespräche und gemeinsame
  Stunden in unserer Schule!\nFolder Tag der offenen Tür 2025 zum Download (
 phocadownload/vermarktung/TATUE_2025_26%20flyer.pdf)\n
X-ALT-DESC;FMTTYPE=text/html:<p><strong>Einladung zum Tag der offenen Tür</strong><br /><br />Liebe Elte
 rn, liebe Schülerinnen und Schüler, liebe Freunde unserer Schule,<br /><br 
 />wir laden Sie und euch ganz herzlich zu unserem Tag der offenen Tür ein!<
 br /><br />An diesem besonderen Tag möchten wir unsere Schulen, die HAK, HL
 W und HTL Reutte vorstellen und einen lebendigen Einblick in das Lernen und
  Miteinander bei uns geben. Unsere Gäste erwartet ein abwechslungsreiches P
 rogramm: Schülerinnen und Schüler präsentieren die Ausbildungsbereiche, zei
 gen spannende Projekte, Experimente und kreative Arbeiten aus dem Unterrich
 t. <br /><br />In den Klassenräumen können Sie verschiedene Fachbereiche en
 tdecken, an kleinen Mitmachaktionen teilnehmen und sich über unsere pädagog
 ischen Schwerpunkte informieren.<br /><br />Auch unser Kollegium steht Ihne
 n gerne für Gespräche zur Verfügung – sei es zu Fragen rund um den Schulall
 tag, zur Schullaufbahn oder zu besonderen Angeboten.<br />Natürlich ist auc
 h für das leibliche Wohl gesorgt!<br /><br />Datum: 21.11.2025<br />Uhrzeit
 : 09:00 bis 17:00 Uhr<br /><br />Wir freuen uns sehr auf zahlreiche Besuche
 rinnen und Besucher und auf viele interessante Begegnungen, Gespräche und g
 emeinsame Stunden in unserer Schule!</p><p><a href="phocadownload/vermarktu
 ng/TATUE_2025_26%20flyer.pdf" target="_blank" rel="noopener">Folder Tag der
  offenen Tür 2025 zum Download</a></p>
DTSTAMP:20260425T180238
DTSTART:20251121T080000
DTEND:20251121T160000
SEQUENCE:0
TRANSP:OPAQUE
END:VEVENT
END:VCALENDAR