BEGIN:VCALENDAR
VERSION:2.0
PRODID:-//jEvents 2.0 for Joomla//EN
CALSCALE:GREGORIAN
METHOD:PUBLISH
BEGIN:VEVENT
UID:4aa24c9e01ea16092a3157d41f0b2158
CATEGORIES:Veranstaltungen
CREATED:20250904T131610
SUMMARY:1.Elternsprechtag
DESCRIPTION:
DTSTAMP:20260425T171448
DTSTART:20251127T153000
DTEND:20251127T183000
SEQUENCE:0
TRANSP:OPAQUE
END:VEVENT
END:VCALENDAR