BEGIN:VCALENDAR
VERSION:2.0
PRODID:-//jEvents 2.0 for Joomla//EN
CALSCALE:GREGORIAN
METHOD:PUBLISH
BEGIN:VEVENT
UID:ba7ddeee960b70fda982f72351fed3db
CATEGORIES:Veranstaltungen
CREATED:20250904T131149
SUMMARY:Rohfassung der Diplomarbeiten auf Teams hochladen
DESCRIPTION:
DTSTAMP:20260425T152833
DTSTART:20251222T070000
DTEND:20251222T160000
SEQUENCE:0
TRANSP:OPAQUE
END:VEVENT
END:VCALENDAR