BEGIN:VCALENDAR
VERSION:2.0
PRODID:-//jEvents 2.0 for Joomla//EN
CALSCALE:GREGORIAN
METHOD:PUBLISH
BEGIN:VEVENT
UID:48d90bf6b4e6d9f1e5506342b51a3c3e
CATEGORIES:Veranstaltungen
CREATED:20250904T131110
SUMMARY:Veröffentlichung Themenpools
DESCRIPTION:
DTSTAMP:20260425T171527
DTSTART:20251128T070000
DTEND:20251128T160000
SEQUENCE:0
TRANSP:OPAQUE
END:VEVENT
END:VCALENDAR