BEGIN:VCALENDAR
VERSION:2.0
PRODID:-//jEvents 2.0 for Joomla//EN
CALSCALE:GREGORIAN
METHOD:PUBLISH
BEGIN:VEVENT
UID:698dad8a18390d814aeb5104ad98aab1
CATEGORIES:Veranstaltungen
CREATED:20250904T130909
SUMMARY:Theater "Jugend ohne Gott" im Veranstaltungszentrum Breitenwang
DESCRIPTION:
DTSTAMP:20260425T171658
DTSTART:20251112T100000
DTEND:20251112T120000
SEQUENCE:0
TRANSP:OPAQUE
END:VEVENT
END:VCALENDAR