BEGIN:VCALENDAR
VERSION:2.0
PRODID:-//jEvents 2.0 for Joomla//EN
CALSCALE:GREGORIAN
METHOD:PUBLISH
BEGIN:VEVENT
UID:198983a3d5ae7d0f70a30ff75bad262e
CATEGORIES:Veranstaltungen
CREATED:20250904T130606
SUMMARY:Messe der weiterführenden Schulen in der WKO Reutte
DESCRIPTION:
DTSTAMP:20260425T171723
DTSTART:20251106T170000
DTEND:20251106T190000
SEQUENCE:0
TRANSP:OPAQUE
END:VEVENT
END:VCALENDAR