BEGIN:VCALENDAR
VERSION:2.0
PRODID:-//jEvents 2.0 for Joomla//EN
CALSCALE:GREGORIAN
METHOD:PUBLISH
BEGIN:VEVENT
UID:5637e944e59e5c9afcf8a52682628c50
CATEGORIES:Veranstaltungen
CREATED:20250904T130529
SUMMARY:SGA-Sitzung HLW
DESCRIPTION:
DTSTAMP:20260425T171459
DTSTART:20251117T130000
DTEND:20251117T140000
SEQUENCE:0
TRANSP:OPAQUE
END:VEVENT
END:VCALENDAR