BEGIN:VCALENDAR
VERSION:2.0
PRODID:-//jEvents 2.0 for Joomla//EN
CALSCALE:GREGORIAN
METHOD:PUBLISH
BEGIN:VEVENT
UID:612716ad300dc98da33e7b22eb16e995
CATEGORIES:Veranstaltungen
CREATED:20250904T130352
SUMMARY:SGA-Sitzung HTL
DESCRIPTION:
DTSTAMP:20260425T171241
DTSTART:20251103T150000
DTEND:20251103T160000
SEQUENCE:0
TRANSP:OPAQUE
END:VEVENT
END:VCALENDAR