BEGIN:VCALENDAR
VERSION:2.0
PRODID:-//jEvents 2.0 for Joomla//EN
CALSCALE:GREGORIAN
METHOD:PUBLISH
BEGIN:VEVENT
UID:ad5d6961bda732eda441ce76ed48413f
CATEGORIES:Veranstaltungen
CREATED:20250904T130322
SUMMARY:SGA-Sitzung HAK
DESCRIPTION:
DTSTAMP:20260425T171316
DTSTART:20251103T130000
DTEND:20251103T140000
SEQUENCE:0
TRANSP:OPAQUE
END:VEVENT
END:VCALENDAR