BEGIN:VCALENDAR
VERSION:2.0
PRODID:-//jEvents 2.0 for Joomla//EN
CALSCALE:GREGORIAN
METHOD:PUBLISH
BEGIN:VEVENT
UID:6110f8e9794160aad334a87a7bbca6fe
CATEGORIES:Veranstaltungen
CREATED:20250904T115405
SUMMARY:HTL-Tage in Innsbruck
DESCRIPTION:<p><strong>HTL-Tage 2025<br /></strong><br />Freitag, 17.10. von 13:00 – 17
 :00<br />Samstag, 18.10. von 09:00 – 14:00</p><p>in der HTL Trenkwalderstra
 ße</p>
DTSTAMP:20260425T195006
DTSTART:20251017T110000
DTEND:20251018T120000
SEQUENCE:0
TRANSP:OPAQUE
END:VEVENT
END:VCALENDAR