BEGIN:VCALENDAR
VERSION:2.0
PRODID:-//jEvents 2.0 for Joomla//EN
CALSCALE:GREGORIAN
METHOD:PUBLISH
BEGIN:VEVENT
UID:ecbe8049f5b06c359c3b1e3ffa2769c9
CATEGORIES:Veranstaltungen
CREATED:20250904T115129
SUMMARY:Elternvertreter:Innenwahlen für die HAK/HTL/HLW
DESCRIPTION:
DTSTAMP:20260425T185649
DTSTART:20251014T060000
DTEND:20251014T100000
SEQUENCE:0
TRANSP:OPAQUE
END:VEVENT
END:VCALENDAR