BEGIN:VCALENDAR
VERSION:2.0
PRODID:-//jEvents 2.0 for Joomla//EN
CALSCALE:GREGORIAN
METHOD:PUBLISH
BEGIN:VEVENT
UID:e1c7b1ca0cf8493dea2b7b141074c5fb
CATEGORIES:Veranstaltungen
CREATED:20250904T114839
SUMMARY:1.Nebentermin Reife- und Diplomprüfung 2024/25 standardisierte Kompensationsprüfungen
DESCRIPTION:
DTSTAMP:20260425T185519
DTSTART:20251009T060000
DTEND:20251009T100000
SEQUENCE:0
TRANSP:OPAQUE
END:VEVENT
END:VCALENDAR