BEGIN:VCALENDAR
VERSION:2.0
PRODID:-//jEvents 2.0 for Joomla//EN
CALSCALE:GREGORIAN
METHOD:PUBLISH
BEGIN:VEVENT
UID:a42cbf6c13da0334cec4436140fcea5c
CATEGORIES:Veranstaltungen
CREATED:20250904T114742
SUMMARY:1.Nebentermin  Reife- und Diplomprüfung 2024/25 nicht standardisierte Kompensationsprüfungen
DESCRIPTION:
DTSTAMP:20260425T190612
DTSTART:20251008T060000
DTEND:20251008T100000
SEQUENCE:0
TRANSP:OPAQUE
END:VEVENT
END:VCALENDAR